BEGIN:VCALENDAR
VERSION:2.0
PRODID:-//Four Generals Brewing - ECPv6.15.17//NONSGML v1.0//EN
CALSCALE:GREGORIAN
METHOD:PUBLISH
X-ORIGINAL-URL:https://www.fourgenerals.com
X-WR-CALDESC:Events for Four Generals Brewing
REFRESH-INTERVAL;VALUE=DURATION:PT1H
X-Robots-Tag:noindex
X-PUBLISHED-TTL:PT1H
BEGIN:VTIMEZONE
TZID:America/Los_Angeles
BEGIN:DAYLIGHT
TZOFFSETFROM:-0800
TZOFFSETTO:-0700
TZNAME:PDT
DTSTART:20240310T100000
END:DAYLIGHT
BEGIN:STANDARD
TZOFFSETFROM:-0700
TZOFFSETTO:-0800
TZNAME:PST
DTSTART:20241103T090000
END:STANDARD
BEGIN:DAYLIGHT
TZOFFSETFROM:-0800
TZOFFSETTO:-0700
TZNAME:PDT
DTSTART:20250309T100000
END:DAYLIGHT
BEGIN:STANDARD
TZOFFSETFROM:-0700
TZOFFSETTO:-0800
TZNAME:PST
DTSTART:20251102T090000
END:STANDARD
BEGIN:DAYLIGHT
TZOFFSETFROM:-0800
TZOFFSETTO:-0700
TZNAME:PDT
DTSTART:20260308T100000
END:DAYLIGHT
BEGIN:STANDARD
TZOFFSETFROM:-0700
TZOFFSETTO:-0800
TZNAME:PST
DTSTART:20261101T090000
END:STANDARD
BEGIN:DAYLIGHT
TZOFFSETFROM:-0800
TZOFFSETTO:-0700
TZNAME:PDT
DTSTART:20270314T100000
END:DAYLIGHT
BEGIN:STANDARD
TZOFFSETFROM:-0700
TZOFFSETTO:-0800
TZNAME:PST
DTSTART:20271107T090000
END:STANDARD
END:VTIMEZONE
BEGIN:VEVENT
DTSTART;TZID=America/Los_Angeles:20250415T160000
DTEND;TZID=America/Los_Angeles:20250415T210000
DTSTAMP:20260419T121722
CREATED:20250408T191050Z
LAST-MODIFIED:20250408T191050Z
UID:5278-1744732800-1744750800@www.fourgenerals.com
SUMMARY:Kolsch Night!
DESCRIPTION:Join Four Generals for a night celebrating Kolsch!
URL:https://www.fourgenerals.com/event/kolsch-night/
LOCATION:Four Generals Brewing\, 229 Wells Ave S\, Renton\, WA\, 98057\, United States
END:VEVENT
BEGIN:VEVENT
DTSTART;TZID=America/Los_Angeles:20250423T160000
DTEND;TZID=America/Los_Angeles:20250423T193000
DTSTAMP:20260419T121722
CREATED:20250415T200314Z
LAST-MODIFIED:20250415T201414Z
UID:5325-1745424000-1745436600@www.fourgenerals.com
SUMMARY:Art Walk
DESCRIPTION:We’ve partnered with the Renton Arts Commission and will be hosting a local artist: Barry David! He will have art for sale as well as will be painting live in the taproom the day-of!
URL:https://www.fourgenerals.com/event/art-walk/
LOCATION:Four Generals Brewing\, 229 Wells Ave S\, Renton\, WA\, 98057\, United States
END:VEVENT
BEGIN:VEVENT
DTSTART;TZID=America/Los_Angeles:20250525T120000
DTEND;TZID=America/Los_Angeles:20250525T140000
DTSTAMP:20260419T121722
CREATED:20250415T201258Z
LAST-MODIFIED:20250415T201258Z
UID:5329-1748174400-1748181600@www.fourgenerals.com
SUMMARY:Street Cheese: Bier and Cheese Pairing
DESCRIPTION:The lovely gals over at Street Cheese are going to join us for a private event pairing Germanic cheese with our biers! Tickets are $40 and available for sale in our taproom. Space is limited to 20 individuals\, so get your tickets today! The taproom will be closed from 12-2pm for the ticket holders only to have a private\, led tasting with Courtney and Tailor.
URL:https://www.fourgenerals.com/event/street-cheese-bier-and-cheese-pairing/
LOCATION:Four Generals Brewing\, 229 Wells Ave S\, Renton\, WA\, 98057\, United States
END:VEVENT
BEGIN:VEVENT
DTSTART;TZID=America/Los_Angeles:20250528T160000
DTEND;TZID=America/Los_Angeles:20250528T193000
DTSTAMP:20260419T121722
CREATED:20250415T201632Z
LAST-MODIFIED:20250415T201632Z
UID:5333-1748448000-1748460600@www.fourgenerals.com
SUMMARY:Art Walk
DESCRIPTION:Join us again for a local Art Walk hosted by the Renton Arts Commission! We will be showcasing a local artist in our brewery for the duration of the event with their art available for purchase.
URL:https://www.fourgenerals.com/event/art-walk-2/
LOCATION:Four Generals Brewing\, 229 Wells Ave S\, Renton\, WA\, 98057\, United States
END:VEVENT
BEGIN:VEVENT
DTSTART;TZID=America/Los_Angeles:20250620T173000
DTEND;TZID=America/Los_Angeles:20250620T220000
DTSTAMP:20260419T121722
CREATED:20250415T203647Z
LAST-MODIFIED:20250415T203647Z
UID:5339-1750440600-1750456800@www.fourgenerals.com
SUMMARY:WA Brewers Fest 2025
DESCRIPTION:Join us at Washington Brewers Festival hosted by the Washington Brewers Guild! Two days of great beverages from over 70 vendors\, SOS Pro Wrestling and more!
URL:https://www.fourgenerals.com/event/wa-brewers-fest-2025/
LOCATION:Seattle Center\, 305 Harrison St.\, Seattle\, WA\, 98109\, United States
END:VEVENT
BEGIN:VEVENT
DTSTART;TZID=America/Los_Angeles:20250621T120000
DTEND;TZID=America/Los_Angeles:20250621T163000
DTSTAMP:20260419T121722
CREATED:20250415T203923Z
LAST-MODIFIED:20250415T203923Z
UID:5343-1750507200-1750523400@www.fourgenerals.com
SUMMARY:WA Brewers Festival
DESCRIPTION:Join us at Washington Brewers Festival hosted by the Washington Brewers Guild! Two days of great beverages from over 70 vendors\, SOS Pro Wrestling and more!
URL:https://www.fourgenerals.com/event/wa-brewers-festival/
LOCATION:Seattle Center\, 305 Harrison St.\, Seattle\, WA\, 98109\, United States
END:VEVENT
BEGIN:VEVENT
DTSTART;TZID=America/Los_Angeles:20250625T160000
DTEND;TZID=America/Los_Angeles:20250625T193000
DTSTAMP:20260419T121722
CREATED:20250415T202024Z
LAST-MODIFIED:20250415T202024Z
UID:5337-1750867200-1750879800@www.fourgenerals.com
SUMMARY:Art Walk
DESCRIPTION:Join us again for a local Art Walk hosted by the Renton Arts Commission! We will be showcasing a local artist in our brewery for the duration of the event with their art available for purchase.
URL:https://www.fourgenerals.com/event/art-walk-3/
LOCATION:Four Generals Brewing\, 229 Wells Ave S\, Renton\, WA\, 98057\, United States
END:VEVENT
BEGIN:VEVENT
DTSTART;TZID=America/Los_Angeles:20250704T120000
DTEND;TZID=America/Los_Angeles:20250704T190000
DTSTAMP:20260419T121722
CREATED:20250703T220314Z
LAST-MODIFIED:20250703T220314Z
UID:5384-1751630400-1751655600@www.fourgenerals.com
SUMMARY:4th of July Hours
DESCRIPTION:Yes! We’re open! from 12pm-7pm! Come by and stock up on your favorite biers for your celebrations. Prost!
URL:https://www.fourgenerals.com/event/4th-of-july-hours/
LOCATION:WA
END:VEVENT
BEGIN:VEVENT
DTSTART;TZID=America/Los_Angeles:20250808T160000
DTEND;TZID=America/Los_Angeles:20250808T200000
DTSTAMP:20260419T121722
CREATED:20250807T231830Z
LAST-MODIFIED:20250807T231830Z
UID:5387-1754668800-1754683200@www.fourgenerals.com
SUMMARY:Now Make Me A Sandwich Food Truck
DESCRIPTION:Now Make Me A Sandwich Food Truck will be on-site on Friday\, August 8th! Join us for your Friday evening\, grab a sandwich and a pint!
URL:https://www.fourgenerals.com/event/now-make-me-a-sandwich-food-truck/
LOCATION:Four Generals Brewing\, 229 Wells Ave S\, Renton\, WA\, 98057\, United States
END:VEVENT
BEGIN:VEVENT
DTSTART;TZID=America/Los_Angeles:20250815T150000
DTEND;TZID=America/Los_Angeles:20250815T190000
DTSTAMP:20260419T121722
CREATED:20250807T232005Z
LAST-MODIFIED:20250807T232005Z
UID:5391-1755270000-1755284400@www.fourgenerals.com
SUMMARY:West Coast Seattle Boy Food Truck
DESCRIPTION:West Coast Seattle Boy food truck will be on sight on Friday\, August 15th!
URL:https://www.fourgenerals.com/event/west-coast-seattle-boy-food-truck/
LOCATION:Four Generals Brewing\, 229 Wells Ave S\, Renton\, WA\, 98057\, United States
END:VEVENT
BEGIN:VEVENT
DTSTART;TZID=America/Los_Angeles:20250912T160000
DTEND;TZID=America/Los_Angeles:20250912T200000
DTSTAMP:20260419T121722
CREATED:20250910T231310Z
LAST-MODIFIED:20250910T231328Z
UID:5399-1757692800-1757707200@www.fourgenerals.com
SUMMARY:12's Mex Kitchen Food Truck
DESCRIPTION:Join us on Friday September 12th from 4pm onward! 12’s Mex Kitchen Food trick will be here with tacos\, burritos and other Mexican Street Flare!
URL:https://www.fourgenerals.com/event/12s-mex-kitchen-food-truck/
LOCATION:WA
END:VEVENT
BEGIN:VEVENT
DTSTART;VALUE=DATE:20251003
DTEND;VALUE=DATE:20251006
DTSTAMP:20260419T121722
CREATED:20250910T231909Z
LAST-MODIFIED:20250910T231909Z
UID:5401-1759449600-1759708799@www.fourgenerals.com
SUMMARY:Great Pumpkin Beer Fest!
DESCRIPTION:Elysian Brewing has invited us to join in the festivities in Capitol Hill! We will have our Schwarzbier on tap the whole weekend! You can get tickets on their website. \nEvent times will vary each day\, see their information provided in the link above! \n 
URL:https://www.fourgenerals.com/event/great-pumpkin-beer-fest/
LOCATION:WA
END:VEVENT
BEGIN:VEVENT
DTSTART;TZID=America/Los_Angeles:20260422T180000
DTEND;TZID=America/Los_Angeles:20260422T200000
DTSTAMP:20260419T121722
CREATED:20260404T062323Z
LAST-MODIFIED:20260404T062323Z
UID:5427-1776880800-1776888000@www.fourgenerals.com
SUMMARY:Connect the Hops
DESCRIPTION:Join a local artist led workshop and paint colorful tulips for the Skagit Valley Tulip Festival. \n 
URL:https://www.fourgenerals.com/event/connect-the-hops/
LOCATION:Four Generals Brewing\, 229 Wells Ave S\, Renton\, WA\, 98057\, United States
END:VEVENT
END:VCALENDAR