BEGIN:VCALENDAR
VERSION:2.0
PRODID:-//Four Generals Brewing - ECPv6.15.17//NONSGML v1.0//EN
CALSCALE:GREGORIAN
METHOD:PUBLISH
X-WR-CALNAME:Four Generals Brewing
X-ORIGINAL-URL:https://www.fourgenerals.com
X-WR-CALDESC:Events for Four Generals Brewing
REFRESH-INTERVAL;VALUE=DURATION:PT1H
X-Robots-Tag:noindex
X-PUBLISHED-TTL:PT1H
BEGIN:VTIMEZONE
TZID:America/Los_Angeles
BEGIN:DAYLIGHT
TZOFFSETFROM:-0800
TZOFFSETTO:-0700
TZNAME:PDT
DTSTART:20240310T100000
END:DAYLIGHT
BEGIN:STANDARD
TZOFFSETFROM:-0700
TZOFFSETTO:-0800
TZNAME:PST
DTSTART:20241103T090000
END:STANDARD
BEGIN:DAYLIGHT
TZOFFSETFROM:-0800
TZOFFSETTO:-0700
TZNAME:PDT
DTSTART:20250309T100000
END:DAYLIGHT
BEGIN:STANDARD
TZOFFSETFROM:-0700
TZOFFSETTO:-0800
TZNAME:PST
DTSTART:20251102T090000
END:STANDARD
BEGIN:DAYLIGHT
TZOFFSETFROM:-0800
TZOFFSETTO:-0700
TZNAME:PDT
DTSTART:20260308T100000
END:DAYLIGHT
BEGIN:STANDARD
TZOFFSETFROM:-0700
TZOFFSETTO:-0800
TZNAME:PST
DTSTART:20261101T090000
END:STANDARD
END:VTIMEZONE
BEGIN:VEVENT
DTSTART;TZID=America/Los_Angeles:20250415T160000
DTEND;TZID=America/Los_Angeles:20250415T210000
DTSTAMP:20260419T093139
CREATED:20250408T191050Z
LAST-MODIFIED:20250408T191050Z
UID:5278-1744732800-1744750800@www.fourgenerals.com
SUMMARY:Kolsch Night!
DESCRIPTION:Join Four Generals for a night celebrating Kolsch!
URL:https://www.fourgenerals.com/event/kolsch-night/
LOCATION:Four Generals Brewing\, 229 Wells Ave S\, Renton\, WA\, 98057\, United States
END:VEVENT
BEGIN:VEVENT
DTSTART;TZID=America/Los_Angeles:20250423T160000
DTEND;TZID=America/Los_Angeles:20250423T193000
DTSTAMP:20260419T093139
CREATED:20250415T200314Z
LAST-MODIFIED:20250415T201414Z
UID:5325-1745424000-1745436600@www.fourgenerals.com
SUMMARY:Art Walk
DESCRIPTION:We’ve partnered with the Renton Arts Commission and will be hosting a local artist: Barry David! He will have art for sale as well as will be painting live in the taproom the day-of!
URL:https://www.fourgenerals.com/event/art-walk/
LOCATION:Four Generals Brewing\, 229 Wells Ave S\, Renton\, WA\, 98057\, United States
END:VEVENT
END:VCALENDAR