BEGIN:VCALENDAR
VERSION:2.0
PRODID:-//Four Generals Brewing - ECPv6.15.17//NONSGML v1.0//EN
CALSCALE:GREGORIAN
METHOD:PUBLISH
X-WR-CALNAME:Four Generals Brewing
X-ORIGINAL-URL:https://www.fourgenerals.com
X-WR-CALDESC:Events for Four Generals Brewing
REFRESH-INTERVAL;VALUE=DURATION:PT1H
X-Robots-Tag:noindex
X-PUBLISHED-TTL:PT1H
BEGIN:VTIMEZONE
TZID:America/Los_Angeles
BEGIN:DAYLIGHT
TZOFFSETFROM:-0800
TZOFFSETTO:-0700
TZNAME:PDT
DTSTART:20240310T100000
END:DAYLIGHT
BEGIN:STANDARD
TZOFFSETFROM:-0700
TZOFFSETTO:-0800
TZNAME:PST
DTSTART:20241103T090000
END:STANDARD
BEGIN:DAYLIGHT
TZOFFSETFROM:-0800
TZOFFSETTO:-0700
TZNAME:PDT
DTSTART:20250309T100000
END:DAYLIGHT
BEGIN:STANDARD
TZOFFSETFROM:-0700
TZOFFSETTO:-0800
TZNAME:PST
DTSTART:20251102T090000
END:STANDARD
BEGIN:DAYLIGHT
TZOFFSETFROM:-0800
TZOFFSETTO:-0700
TZNAME:PDT
DTSTART:20260308T100000
END:DAYLIGHT
BEGIN:STANDARD
TZOFFSETFROM:-0700
TZOFFSETTO:-0800
TZNAME:PST
DTSTART:20261101T090000
END:STANDARD
END:VTIMEZONE
BEGIN:VEVENT
DTSTART;TZID=America/Los_Angeles:20250525T120000
DTEND;TZID=America/Los_Angeles:20250525T140000
DTSTAMP:20260419T081047
CREATED:20250415T201258Z
LAST-MODIFIED:20250415T201258Z
UID:5329-1748174400-1748181600@www.fourgenerals.com
SUMMARY:Street Cheese: Bier and Cheese Pairing
DESCRIPTION:The lovely gals over at Street Cheese are going to join us for a private event pairing Germanic cheese with our biers! Tickets are $40 and available for sale in our taproom. Space is limited to 20 individuals\, so get your tickets today! The taproom will be closed from 12-2pm for the ticket holders only to have a private\, led tasting with Courtney and Tailor.
URL:https://www.fourgenerals.com/event/street-cheese-bier-and-cheese-pairing/
LOCATION:Four Generals Brewing\, 229 Wells Ave S\, Renton\, WA\, 98057\, United States
END:VEVENT
BEGIN:VEVENT
DTSTART;TZID=America/Los_Angeles:20250528T160000
DTEND;TZID=America/Los_Angeles:20250528T193000
DTSTAMP:20260419T081047
CREATED:20250415T201632Z
LAST-MODIFIED:20250415T201632Z
UID:5333-1748448000-1748460600@www.fourgenerals.com
SUMMARY:Art Walk
DESCRIPTION:Join us again for a local Art Walk hosted by the Renton Arts Commission! We will be showcasing a local artist in our brewery for the duration of the event with their art available for purchase.
URL:https://www.fourgenerals.com/event/art-walk-2/
LOCATION:Four Generals Brewing\, 229 Wells Ave S\, Renton\, WA\, 98057\, United States
END:VEVENT
END:VCALENDAR